BEGIN:VCALENDAR
VERSION:2.0
METHOD:PUBLISH
BEGIN:VEVENT
UID:WILD_APRICOT_EVENT_2688312_SESSION_1
DTSTART:20180316T190000Z
DTEND:20180317T040000Z
SUMMARY:NZDA Hutt Valley Branch -  Kaitoke Pre Roar Open Day
LOCATION:Kaitoke
DESCRIPTION:https://hvnzda.org.nz/event-2688312\n\nHVNZDA Kaitoke Pre Roar Open Day - March 17th 2018\n  We are planning a pre-roar sighting in day primarily aimed at members\, family and friends on Saturday March 17th at our Kaitoke rifle range.\n   A full public day is planned for later in the year.\n  Start time is 9am till about 2pm. Help with set up from 8am would be appreciated.\n  There will be paper and steel targets available to be shot from 25m out to 200m.\n  A BBQ lunch will be available from 11.30 till about 12.30.\n  Bring your own hunting rifle to check the zero or put your partner or kids behind one of the branch 22RF's. A chronograph will be available to test your ammo.\n  There will also be help and advice on shooting available on the day if required.\n  There could be a few people there on the day\, so there could possibly be delays in getting to the firing line. Bring hearing and eye protection and chamber flag if you have one.\n  Tea and coffee will available (free) but please bring your own cup.\n  Possible spot prizes.\n  Cost\n  Members are $5\, non-members are $10\, and kids and partners are free.\n  Food is $2 per item.\n  22RF ammunition is at cost price and you pay as you go. (Bring cash)\n  Centrefire ammunition is your responsibility.  \n  Please advise if coming\, to help with catering or if you have any questions please contact\,\n  hvnzda.range@gmail.com\n  John L\n  HVNZDA\n  \n\n
DTSTAMP:20260424T131103Z
END:VEVENT
END:VCALENDAR
