BEGIN:VCALENDAR
VERSION:2.0
METHOD:PUBLISH
BEGIN:VEVENT
UID:WILD_APRICOT_EVENT_2687271_SESSION_1
DTSTART:20180117T050000Z
DTEND:20180117T070000Z
SUMMARY:HVNZDA club meeting /  .22 shoot (session 1 of 2)
LOCATION:Kaitoke Range
DESCRIPTION:https://hvnzda.org.nz/event-2687271\n\nKids .22 shoot and BYO BBQ - All welcome.
DTSTAMP:20260424T131348Z
END:VEVENT
BEGIN:VEVENT
UID:WILD_APRICOT_EVENT_2687271_SESSION_2
DTSTART:20180221T050000Z
DTEND:20180221T070000Z
SUMMARY:HVNZDA club meeting /  .22 shoot (session 2 of 2)
LOCATION:Kaitoke Range
DESCRIPTION:https://hvnzda.org.nz/event-2687271\n\nKids .22 shoot and BYO BBQ - All welcome.
DTSTAMP:20260424T131348Z
END:VEVENT
END:VCALENDAR
