BEGIN:VCALENDAR
VERSION:2.0
METHOD:PUBLISH
BEGIN:VEVENT
UID:WILD_APRICOT_EVENT_2687265_SESSION_1
DTSTART:20180120T193000Z
DTEND:20180120T233000Z
SUMMARY:KPC - 0830 - 1230 - Sole Use (session 1 of 14)
LOCATION:Kaitoke Range
DESCRIPTION:https://hvnzda.org.nz/event-2687265\n\nExclusive use of the range by Kaitoke Pistol Club.\n
DTSTAMP:20260424T131157Z
END:VEVENT
BEGIN:VEVENT
UID:WILD_APRICOT_EVENT_2687265_SESSION_2
DTSTART:20180303T193000Z
DTEND:20180303T233000Z
SUMMARY:KPC - 0830 - 1230 - Sole Use (session 2 of 14)
LOCATION:Kaitoke Range
DESCRIPTION:https://hvnzda.org.nz/event-2687265\n\nExclusive use of the range by Kaitoke Pistol Club.\n
DTSTAMP:20260424T131157Z
END:VEVENT
BEGIN:VEVENT
UID:WILD_APRICOT_EVENT_2687265_SESSION_3
DTSTART:20180421T203000Z
DTEND:20180422T003000Z
SUMMARY:KPC - 0830 - 1230 - Sole Use (session 3 of 14)
LOCATION:Kaitoke Range
DESCRIPTION:https://hvnzda.org.nz/event-2687265\n\nExclusive use of the range by Kaitoke Pistol Club.\n
DTSTAMP:20260424T131157Z
END:VEVENT
BEGIN:VEVENT
UID:WILD_APRICOT_EVENT_2687265_SESSION_4
DTSTART:20180616T203000Z
DTEND:20180617T003000Z
SUMMARY:KPC - 0830 - 1230 - Sole Use (session 4 of 14)
LOCATION:Kaitoke Range
DESCRIPTION:https://hvnzda.org.nz/event-2687265\n\nExclusive use of the range by Kaitoke Pistol Club.\n
DTSTAMP:20260424T131157Z
END:VEVENT
BEGIN:VEVENT
UID:WILD_APRICOT_EVENT_2687265_SESSION_5
DTSTART:20180623T203000Z
DTEND:20180624T003000Z
SUMMARY:KPC - 0830 - 1230 - Sole Use (session 5 of 14)
LOCATION:Kaitoke Range
DESCRIPTION:https://hvnzda.org.nz/event-2687265\n\nExclusive use of the range by Kaitoke Pistol Club.\n
DTSTAMP:20260424T131157Z
END:VEVENT
BEGIN:VEVENT
UID:WILD_APRICOT_EVENT_2687265_SESSION_6
DTSTART:20180707T203000Z
DTEND:20180708T003000Z
SUMMARY:KPC - 0830 - 1230 - Sole Use (session 6 of 14)
LOCATION:Kaitoke Range
DESCRIPTION:https://hvnzda.org.nz/event-2687265\n\nExclusive use of the range by Kaitoke Pistol Club.\n
DTSTAMP:20260424T131157Z
END:VEVENT
BEGIN:VEVENT
UID:WILD_APRICOT_EVENT_2687265_SESSION_7
DTSTART:20180728T203000Z
DTEND:20180729T003000Z
SUMMARY:KPC - 0830 - 1230 - Sole Use (session 7 of 14)
LOCATION:Kaitoke Range
DESCRIPTION:https://hvnzda.org.nz/event-2687265\n\nExclusive use of the range by Kaitoke Pistol Club.\n
DTSTAMP:20260424T131157Z
END:VEVENT
BEGIN:VEVENT
UID:WILD_APRICOT_EVENT_2687265_SESSION_8
DTSTART:20180804T203000Z
DTEND:20180805T003000Z
SUMMARY:KPC - 0830 - 1230 - Sole Use (session 8 of 14)
LOCATION:Kaitoke Range
DESCRIPTION:https://hvnzda.org.nz/event-2687265\n\nExclusive use of the range by Kaitoke Pistol Club.\n
DTSTAMP:20260424T131157Z
END:VEVENT
BEGIN:VEVENT
UID:WILD_APRICOT_EVENT_2687265_SESSION_9
DTSTART:20180818T203000Z
DTEND:20180819T003000Z
SUMMARY:KPC - 0830 - 1230 - Sole Use (session 9 of 14)
LOCATION:Kaitoke Range
DESCRIPTION:https://hvnzda.org.nz/event-2687265\n\nExclusive use of the range by Kaitoke Pistol Club.\n
DTSTAMP:20260424T131157Z
END:VEVENT
BEGIN:VEVENT
UID:WILD_APRICOT_EVENT_2687265_SESSION_10
DTSTART:20180825T203000Z
DTEND:20180826T003000Z
SUMMARY:KPC - 0830 - 1230 - Sole Use (session 10 of 14)
LOCATION:Kaitoke Range
DESCRIPTION:https://hvnzda.org.nz/event-2687265\n\nExclusive use of the range by Kaitoke Pistol Club.\n
DTSTAMP:20260424T131157Z
END:VEVENT
BEGIN:VEVENT
UID:WILD_APRICOT_EVENT_2687265_SESSION_11
DTSTART:20180901T203000Z
DTEND:20180902T003000Z
SUMMARY:KPC - 0830 - 1230 - Sole Use (session 11 of 14)
LOCATION:Kaitoke Range
DESCRIPTION:https://hvnzda.org.nz/event-2687265\n\nExclusive use of the range by Kaitoke Pistol Club.\n
DTSTAMP:20260424T131157Z
END:VEVENT
BEGIN:VEVENT
UID:WILD_APRICOT_EVENT_2687265_SESSION_12
DTSTART:20181006T193000Z
DTEND:20181006T233000Z
SUMMARY:KPC - 0830 - 1230 - Sole Use (session 12 of 14)
LOCATION:Kaitoke Range
DESCRIPTION:https://hvnzda.org.nz/event-2687265\n\nExclusive use of the range by Kaitoke Pistol Club.\n
DTSTAMP:20260424T131157Z
END:VEVENT
BEGIN:VEVENT
UID:WILD_APRICOT_EVENT_2687265_SESSION_13
DTSTART:20181103T193000Z
DTEND:20181103T233000Z
SUMMARY:KPC - 0830 - 1230 - Sole Use (session 13 of 14)
LOCATION:Kaitoke Range
DESCRIPTION:https://hvnzda.org.nz/event-2687265\n\nExclusive use of the range by Kaitoke Pistol Club.\n
DTSTAMP:20260424T131157Z
END:VEVENT
BEGIN:VEVENT
UID:WILD_APRICOT_EVENT_2687265_SESSION_14
DTSTART:20181201T193000Z
DTEND:20181201T233000Z
SUMMARY:KPC - 0830 - 1230 - Sole Use (session 14 of 14)
LOCATION:Kaitoke Range
DESCRIPTION:https://hvnzda.org.nz/event-2687265\n\nExclusive use of the range by Kaitoke Pistol Club.\n
DTSTAMP:20260424T131157Z
END:VEVENT
END:VCALENDAR
