BEGIN:VCALENDAR
VERSION:2.0
METHOD:PUBLISH
BEGIN:VEVENT
UID:WILD_APRICOT_EVENT_2687264_SESSION_1
DTSTART:20180224T233000Z
DTEND:20180225T033000Z
SUMMARY:HVNZDA Club Shoot - Sole Use - PM (session 1 of 4)
LOCATION:Kaitoke Range
DESCRIPTION:https://hvnzda.org.nz/event-2687264\n\n         Regular branch shoot   \n      \n      See website for further information:\n      \n      https://huttvalleynzda.wildapricot.org/page-1661817\n   \n  \n
DTSTAMP:20260424T115557Z
END:VEVENT
BEGIN:VEVENT
UID:WILD_APRICOT_EVENT_2687264_SESSION_2
DTSTART:20180902T003000Z
DTEND:20180902T043000Z
SUMMARY:HVNZDA Club Shoot - Sole Use - PM (session 2 of 4)
LOCATION:Kaitoke Range
DESCRIPTION:https://hvnzda.org.nz/event-2687264\n\n         Regular branch shoot   \n      \n      See website for further information:\n      \n      https://huttvalleynzda.wildapricot.org/page-1661817\n   \n  \n
DTSTAMP:20260424T115557Z
END:VEVENT
BEGIN:VEVENT
UID:WILD_APRICOT_EVENT_2687264_SESSION_3
DTSTART:20181006T233000Z
DTEND:20181007T033000Z
SUMMARY:HVNZDA Club Shoot - Sole Use - PM (session 3 of 4)
LOCATION:Kaitoke Range
DESCRIPTION:https://hvnzda.org.nz/event-2687264\n\n         Regular branch shoot   \n      \n      See website for further information:\n      \n      https://huttvalleynzda.wildapricot.org/page-1661817\n   \n  \n
DTSTAMP:20260424T115557Z
END:VEVENT
BEGIN:VEVENT
UID:WILD_APRICOT_EVENT_2687264_SESSION_4
DTSTART:20181201T233000Z
DTEND:20181202T033000Z
SUMMARY:HVNZDA Club Shoot - Sole Use - PM (session 4 of 4)
LOCATION:Kaitoke Range
DESCRIPTION:https://hvnzda.org.nz/event-2687264\n\n         Regular branch shoot   \n      \n      See website for further information:\n      \n      https://huttvalleynzda.wildapricot.org/page-1661817\n   \n  \n
DTSTAMP:20260424T115557Z
END:VEVENT
END:VCALENDAR
