BEGIN:VCALENDAR
VERSION:2.0
METHOD:PUBLISH
BEGIN:VEVENT
UID:WILD_APRICOT_EVENT_2687263_SESSION_1
DTSTART:20180210T193000Z
DTEND:20180211T033000Z
SUMMARY:Antique Arms Association (AAA) - Sole Use - All day (session 1 of 6)
LOCATION:Kaitoke Range
DESCRIPTION:https://hvnzda.org.nz/event-2687263\n\nExclusive use of the range by the Antique Arms Association (AAA).\n
DTSTAMP:20260424T130307Z
END:VEVENT
BEGIN:VEVENT
UID:WILD_APRICOT_EVENT_2687263_SESSION_2
DTSTART:20180414T203000Z
DTEND:20180415T043000Z
SUMMARY:Antique Arms Association (AAA) - Sole Use - All day (session 2 of 6)
LOCATION:Kaitoke Range
DESCRIPTION:https://hvnzda.org.nz/event-2687263\n\nExclusive use of the range by the Antique Arms Association (AAA).\n
DTSTAMP:20260424T130307Z
END:VEVENT
BEGIN:VEVENT
UID:WILD_APRICOT_EVENT_2687263_SESSION_3
DTSTART:20180915T203000Z
DTEND:20180916T043000Z
SUMMARY:Antique Arms Association (AAA) - Sole Use - All day (session 3 of 6)
LOCATION:Kaitoke Range
DESCRIPTION:https://hvnzda.org.nz/event-2687263\n\nExclusive use of the range by the Antique Arms Association (AAA).\n
DTSTAMP:20260424T130307Z
END:VEVENT
BEGIN:VEVENT
UID:WILD_APRICOT_EVENT_2687263_SESSION_4
DTSTART:20181013T193000Z
DTEND:20181014T033000Z
SUMMARY:Antique Arms Association (AAA) - Sole Use - All day (session 4 of 6)
LOCATION:Kaitoke Range
DESCRIPTION:https://hvnzda.org.nz/event-2687263\n\nExclusive use of the range by the Antique Arms Association (AAA).\n
DTSTAMP:20260424T130307Z
END:VEVENT
BEGIN:VEVENT
UID:WILD_APRICOT_EVENT_2687263_SESSION_5
DTSTART:20181117T193000Z
DTEND:20181118T033000Z
SUMMARY:Antique Arms Association (AAA) - Sole Use - All day (session 5 of 6)
LOCATION:Kaitoke Range
DESCRIPTION:https://hvnzda.org.nz/event-2687263\n\nExclusive use of the range by the Antique Arms Association (AAA).\n
DTSTAMP:20260424T130307Z
END:VEVENT
BEGIN:VEVENT
UID:WILD_APRICOT_EVENT_2687263_SESSION_6
DTSTART:20181215T193000Z
DTEND:20181216T033000Z
SUMMARY:Antique Arms Association (AAA) - Sole Use - All day (session 6 of 6)
LOCATION:Kaitoke Range
DESCRIPTION:https://hvnzda.org.nz/event-2687263\n\nExclusive use of the range by the Antique Arms Association (AAA).\n
DTSTAMP:20260424T130307Z
END:VEVENT
END:VCALENDAR
