BEGIN:VCALENDAR
VERSION:2.0
METHOD:PUBLISH
BEGIN:VEVENT
UID:WILD_APRICOT_EVENT_2687261_SESSION_1
DTSTART:20180217T233000Z
DTEND:20180218T033000Z
SUMMARY:Wellington Service Rifle (WSRA) - PM
LOCATION:Kaitoke
DESCRIPTION:https://hvnzda.org.nz/event-2687261\n\nSole use by WSRA. \n  Go to wsra.org.nz for more information.\n
DTSTAMP:20260424T131629Z
END:VEVENT
END:VCALENDAR
