BEGIN:VCALENDAR
VERSION:2.0
METHOD:PUBLISH
BEGIN:VEVENT
UID:WILD_APRICOT_EVENT_2687260_SESSION_1
DTSTART:20180113T193000Z
DTEND:20180114T033000Z
SUMMARY:Wellington Service Rifle (WSRA) - All Day (session 1 of 15)
LOCATION:Kaitoke
DESCRIPTION:https://hvnzda.org.nz/event-2687260\n\n Exclusive use by Wellington Service Rifle.
DTSTAMP:20260424T131640Z
END:VEVENT
BEGIN:VEVENT
UID:WILD_APRICOT_EVENT_2687260_SESSION_2
DTSTART:20180205T193000Z
DTEND:20180206T033000Z
SUMMARY:Wellington Service Rifle (WSRA) - All Day (session 2 of 15)
LOCATION:Kaitoke
DESCRIPTION:https://hvnzda.org.nz/event-2687260\n\n Exclusive use by Wellington Service Rifle.
DTSTAMP:20260424T131640Z
END:VEVENT
BEGIN:VEVENT
UID:WILD_APRICOT_EVENT_2687260_SESSION_3
DTSTART:20180310T193000Z
DTEND:20180311T033000Z
SUMMARY:Wellington Service Rifle (WSRA) - All Day (session 3 of 15)
LOCATION:Kaitoke
DESCRIPTION:https://hvnzda.org.nz/event-2687260\n\n Exclusive use by Wellington Service Rifle.
DTSTAMP:20260424T131640Z
END:VEVENT
BEGIN:VEVENT
UID:WILD_APRICOT_EVENT_2687260_SESSION_4
DTSTART:20180407T203000Z
DTEND:20180408T043000Z
SUMMARY:Wellington Service Rifle (WSRA) - All Day (session 4 of 15)
LOCATION:Kaitoke
DESCRIPTION:https://hvnzda.org.nz/event-2687260\n\n Exclusive use by Wellington Service Rifle.
DTSTAMP:20260424T131640Z
END:VEVENT
BEGIN:VEVENT
UID:WILD_APRICOT_EVENT_2687260_SESSION_5
DTSTART:20180424T203000Z
DTEND:20180425T043000Z
SUMMARY:Wellington Service Rifle (WSRA) - All Day (session 5 of 15)
LOCATION:Kaitoke
DESCRIPTION:https://hvnzda.org.nz/event-2687260\n\n Exclusive use by Wellington Service Rifle.
DTSTAMP:20260424T131640Z
END:VEVENT
BEGIN:VEVENT
UID:WILD_APRICOT_EVENT_2687260_SESSION_6
DTSTART:20180512T203000Z
DTEND:20180513T043000Z
SUMMARY:Wellington Service Rifle (WSRA) - All Day (session 6 of 15)
LOCATION:Kaitoke
DESCRIPTION:https://hvnzda.org.nz/event-2687260\n\n Exclusive use by Wellington Service Rifle.
DTSTAMP:20260424T131640Z
END:VEVENT
BEGIN:VEVENT
UID:WILD_APRICOT_EVENT_2687260_SESSION_7
DTSTART:20180609T203000Z
DTEND:20180610T043000Z
SUMMARY:Wellington Service Rifle (WSRA) - All Day (session 7 of 15)
LOCATION:Kaitoke
DESCRIPTION:https://hvnzda.org.nz/event-2687260\n\n Exclusive use by Wellington Service Rifle.
DTSTAMP:20260424T131640Z
END:VEVENT
BEGIN:VEVENT
UID:WILD_APRICOT_EVENT_2687260_SESSION_8
DTSTART:20180630T203000Z
DTEND:20180701T043000Z
SUMMARY:Wellington Service Rifle (WSRA) - All Day (session 8 of 15)
LOCATION:Kaitoke
DESCRIPTION:https://hvnzda.org.nz/event-2687260\n\n Exclusive use by Wellington Service Rifle.
DTSTAMP:20260424T131640Z
END:VEVENT
BEGIN:VEVENT
UID:WILD_APRICOT_EVENT_2687260_SESSION_9
DTSTART:20180721T203000Z
DTEND:20180722T043000Z
SUMMARY:Wellington Service Rifle (WSRA) - All Day (session 9 of 15)
LOCATION:Kaitoke
DESCRIPTION:https://hvnzda.org.nz/event-2687260\n\n Exclusive use by Wellington Service Rifle.
DTSTAMP:20260424T131640Z
END:VEVENT
BEGIN:VEVENT
UID:WILD_APRICOT_EVENT_2687260_SESSION_10
DTSTART:20180811T203000Z
DTEND:20180812T043000Z
SUMMARY:Wellington Service Rifle (WSRA) - All Day (session 10 of 15)
LOCATION:Kaitoke
DESCRIPTION:https://hvnzda.org.nz/event-2687260\n\n Exclusive use by Wellington Service Rifle.
DTSTAMP:20260424T131640Z
END:VEVENT
BEGIN:VEVENT
UID:WILD_APRICOT_EVENT_2687260_SESSION_11
DTSTART:20180908T203000Z
DTEND:20180909T043000Z
SUMMARY:Wellington Service Rifle (WSRA) - All Day (session 11 of 15)
LOCATION:Kaitoke
DESCRIPTION:https://hvnzda.org.nz/event-2687260\n\n Exclusive use by Wellington Service Rifle.
DTSTAMP:20260424T131640Z
END:VEVENT
BEGIN:VEVENT
UID:WILD_APRICOT_EVENT_2687260_SESSION_12
DTSTART:20180929T193000Z
DTEND:20180930T033000Z
SUMMARY:Wellington Service Rifle (WSRA) - All Day (session 12 of 15)
LOCATION:Kaitoke
DESCRIPTION:https://hvnzda.org.nz/event-2687260\n\n Exclusive use by Wellington Service Rifle.
DTSTAMP:20260424T131640Z
END:VEVENT
BEGIN:VEVENT
UID:WILD_APRICOT_EVENT_2687260_SESSION_13
DTSTART:20181027T193000Z
DTEND:20181028T033000Z
SUMMARY:Wellington Service Rifle (WSRA) - All Day (session 13 of 15)
LOCATION:Kaitoke
DESCRIPTION:https://hvnzda.org.nz/event-2687260\n\n Exclusive use by Wellington Service Rifle.
DTSTAMP:20260424T131640Z
END:VEVENT
BEGIN:VEVENT
UID:WILD_APRICOT_EVENT_2687260_SESSION_14
DTSTART:20181110T193000Z
DTEND:20181111T033000Z
SUMMARY:Wellington Service Rifle (WSRA) - All Day (session 14 of 15)
LOCATION:Kaitoke
DESCRIPTION:https://hvnzda.org.nz/event-2687260\n\n Exclusive use by Wellington Service Rifle.
DTSTAMP:20260424T131640Z
END:VEVENT
BEGIN:VEVENT
UID:WILD_APRICOT_EVENT_2687260_SESSION_15
DTSTART:20181208T193000Z
DTEND:20181209T033000Z
SUMMARY:Wellington Service Rifle (WSRA) - All Day (session 15 of 15)
LOCATION:Kaitoke
DESCRIPTION:https://hvnzda.org.nz/event-2687260\n\n Exclusive use by Wellington Service Rifle.
DTSTAMP:20260424T131640Z
END:VEVENT
END:VCALENDAR
