BEGIN:VCALENDAR
VERSION:2.0
METHOD:PUBLISH
BEGIN:VEVENT
UID:WILD_APRICOT_EVENT_2687253_SESSION_1
DTSTART:20180103T050000Z
DTEND:20180103T070000Z
SUMMARY:Kaitoke Pistol Club Summer league 6 - 8 pm (session 1 of 24)
LOCATION:Kaitoke Range
DESCRIPTION:https://hvnzda.org.nz/event-2687253\n\nRange booked for competition\, no casual use available during these times. Open to all B endorsed shooters.
DTSTAMP:20260424T141835Z
END:VEVENT
BEGIN:VEVENT
UID:WILD_APRICOT_EVENT_2687253_SESSION_2
DTSTART:20180110T050000Z
DTEND:20180110T070000Z
SUMMARY:Kaitoke Pistol Club Summer league 6 - 8 pm (session 2 of 24)
LOCATION:Kaitoke Range
DESCRIPTION:https://hvnzda.org.nz/event-2687253\n\nRange booked for competition\, no casual use available during these times. Open to all B endorsed shooters.
DTSTAMP:20260424T141835Z
END:VEVENT
BEGIN:VEVENT
UID:WILD_APRICOT_EVENT_2687253_SESSION_3
DTSTART:20180124T050000Z
DTEND:20180124T070000Z
SUMMARY:Kaitoke Pistol Club Summer league 6 - 8 pm (session 3 of 24)
LOCATION:Kaitoke Range
DESCRIPTION:https://hvnzda.org.nz/event-2687253\n\nRange booked for competition\, no casual use available during these times. Open to all B endorsed shooters.
DTSTAMP:20260424T141835Z
END:VEVENT
BEGIN:VEVENT
UID:WILD_APRICOT_EVENT_2687253_SESSION_4
DTSTART:20180131T050000Z
DTEND:20180131T070000Z
SUMMARY:Kaitoke Pistol Club Summer league 6 - 8 pm (session 4 of 24)
LOCATION:Kaitoke Range
DESCRIPTION:https://hvnzda.org.nz/event-2687253\n\nRange booked for competition\, no casual use available during these times. Open to all B endorsed shooters.
DTSTAMP:20260424T141835Z
END:VEVENT
BEGIN:VEVENT
UID:WILD_APRICOT_EVENT_2687253_SESSION_5
DTSTART:20180207T050000Z
DTEND:20180207T070000Z
SUMMARY:Kaitoke Pistol Club Summer league 6 - 8 pm (session 5 of 24)
LOCATION:Kaitoke Range
DESCRIPTION:https://hvnzda.org.nz/event-2687253\n\nRange booked for competition\, no casual use available during these times. Open to all B endorsed shooters.
DTSTAMP:20260424T141835Z
END:VEVENT
BEGIN:VEVENT
UID:WILD_APRICOT_EVENT_2687253_SESSION_6
DTSTART:20180214T050000Z
DTEND:20180214T070000Z
SUMMARY:Kaitoke Pistol Club Summer league 6 - 8 pm (session 6 of 24)
LOCATION:Kaitoke Range
DESCRIPTION:https://hvnzda.org.nz/event-2687253\n\nRange booked for competition\, no casual use available during these times. Open to all B endorsed shooters.
DTSTAMP:20260424T141835Z
END:VEVENT
BEGIN:VEVENT
UID:WILD_APRICOT_EVENT_2687253_SESSION_7
DTSTART:20180228T050000Z
DTEND:20180228T070000Z
SUMMARY:Kaitoke Pistol Club Summer league 6 - 8 pm (session 7 of 24)
LOCATION:Kaitoke Range
DESCRIPTION:https://hvnzda.org.nz/event-2687253\n\nRange booked for competition\, no casual use available during these times. Open to all B endorsed shooters.
DTSTAMP:20260424T141835Z
END:VEVENT
BEGIN:VEVENT
UID:WILD_APRICOT_EVENT_2687253_SESSION_8
DTSTART:20180307T050000Z
DTEND:20180307T070000Z
SUMMARY:Kaitoke Pistol Club Summer league 6 - 8 pm (session 8 of 24)
LOCATION:Kaitoke Range
DESCRIPTION:https://hvnzda.org.nz/event-2687253\n\nRange booked for competition\, no casual use available during these times. Open to all B endorsed shooters.
DTSTAMP:20260424T141835Z
END:VEVENT
BEGIN:VEVENT
UID:WILD_APRICOT_EVENT_2687253_SESSION_9
DTSTART:20180314T050000Z
DTEND:20180314T070000Z
SUMMARY:Kaitoke Pistol Club Summer league 6 - 8 pm (session 9 of 24)
LOCATION:Kaitoke Range
DESCRIPTION:https://hvnzda.org.nz/event-2687253\n\nRange booked for competition\, no casual use available during these times. Open to all B endorsed shooters.
DTSTAMP:20260424T141835Z
END:VEVENT
BEGIN:VEVENT
UID:WILD_APRICOT_EVENT_2687253_SESSION_10
DTSTART:20180321T050000Z
DTEND:20180321T070000Z
SUMMARY:Kaitoke Pistol Club Summer league 6 - 8 pm (session 10 of 24)
LOCATION:Kaitoke Range
DESCRIPTION:https://hvnzda.org.nz/event-2687253\n\nRange booked for competition\, no casual use available during these times. Open to all B endorsed shooters.
DTSTAMP:20260424T141835Z
END:VEVENT
BEGIN:VEVENT
UID:WILD_APRICOT_EVENT_2687253_SESSION_11
DTSTART:20180328T050000Z
DTEND:20180328T070000Z
SUMMARY:Kaitoke Pistol Club Summer league 6 - 8 pm (session 11 of 24)
LOCATION:Kaitoke Range
DESCRIPTION:https://hvnzda.org.nz/event-2687253\n\nRange booked for competition\, no casual use available during these times. Open to all B endorsed shooters.
DTSTAMP:20260424T141835Z
END:VEVENT
BEGIN:VEVENT
UID:WILD_APRICOT_EVENT_2687253_SESSION_12
DTSTART:20180926T060000Z
DTEND:20180926T080000Z
SUMMARY:Kaitoke Pistol Club Summer league 6 - 8 pm (session 12 of 24)
LOCATION:Kaitoke Range
DESCRIPTION:https://hvnzda.org.nz/event-2687253\n\nRange booked for competition\, no casual use available during these times. Open to all B endorsed shooters.
DTSTAMP:20260424T141835Z
END:VEVENT
BEGIN:VEVENT
UID:WILD_APRICOT_EVENT_2687253_SESSION_13
DTSTART:20181003T050000Z
DTEND:20181003T070000Z
SUMMARY:Kaitoke Pistol Club Summer league 6 - 8 pm (session 13 of 24)
LOCATION:Kaitoke Range
DESCRIPTION:https://hvnzda.org.nz/event-2687253\n\nRange booked for competition\, no casual use available during these times. Open to all B endorsed shooters.
DTSTAMP:20260424T141835Z
END:VEVENT
BEGIN:VEVENT
UID:WILD_APRICOT_EVENT_2687253_SESSION_14
DTSTART:20181010T050000Z
DTEND:20181010T070000Z
SUMMARY:Kaitoke Pistol Club Summer league 6 - 8 pm (session 14 of 24)
LOCATION:Kaitoke Range
DESCRIPTION:https://hvnzda.org.nz/event-2687253\n\nRange booked for competition\, no casual use available during these times. Open to all B endorsed shooters.
DTSTAMP:20260424T141835Z
END:VEVENT
BEGIN:VEVENT
UID:WILD_APRICOT_EVENT_2687253_SESSION_15
DTSTART:20181017T050000Z
DTEND:20181017T070000Z
SUMMARY:Kaitoke Pistol Club Summer league 6 - 8 pm (session 15 of 24)
LOCATION:Kaitoke Range
DESCRIPTION:https://hvnzda.org.nz/event-2687253\n\nRange booked for competition\, no casual use available during these times. Open to all B endorsed shooters.
DTSTAMP:20260424T141835Z
END:VEVENT
BEGIN:VEVENT
UID:WILD_APRICOT_EVENT_2687253_SESSION_16
DTSTART:20181024T050000Z
DTEND:20181024T070000Z
SUMMARY:Kaitoke Pistol Club Summer league 6 - 8 pm (session 16 of 24)
LOCATION:Kaitoke Range
DESCRIPTION:https://hvnzda.org.nz/event-2687253\n\nRange booked for competition\, no casual use available during these times. Open to all B endorsed shooters.
DTSTAMP:20260424T141835Z
END:VEVENT
BEGIN:VEVENT
UID:WILD_APRICOT_EVENT_2687253_SESSION_17
DTSTART:20181031T050000Z
DTEND:20181031T070000Z
SUMMARY:Kaitoke Pistol Club Summer league 6 - 8 pm (session 17 of 24)
LOCATION:Kaitoke Range
DESCRIPTION:https://hvnzda.org.nz/event-2687253\n\nRange booked for competition\, no casual use available during these times. Open to all B endorsed shooters.
DTSTAMP:20260424T141835Z
END:VEVENT
BEGIN:VEVENT
UID:WILD_APRICOT_EVENT_2687253_SESSION_18
DTSTART:20181107T050000Z
DTEND:20181107T070000Z
SUMMARY:Kaitoke Pistol Club Summer league 6 - 8 pm (session 18 of 24)
LOCATION:Kaitoke Range
DESCRIPTION:https://hvnzda.org.nz/event-2687253\n\nRange booked for competition\, no casual use available during these times. Open to all B endorsed shooters.
DTSTAMP:20260424T141835Z
END:VEVENT
BEGIN:VEVENT
UID:WILD_APRICOT_EVENT_2687253_SESSION_19
DTSTART:20181114T050000Z
DTEND:20181114T070000Z
SUMMARY:Kaitoke Pistol Club Summer league 6 - 8 pm (session 19 of 24)
LOCATION:Kaitoke Range
DESCRIPTION:https://hvnzda.org.nz/event-2687253\n\nRange booked for competition\, no casual use available during these times. Open to all B endorsed shooters.
DTSTAMP:20260424T141835Z
END:VEVENT
BEGIN:VEVENT
UID:WILD_APRICOT_EVENT_2687253_SESSION_20
DTSTART:20181121T050000Z
DTEND:20181121T070000Z
SUMMARY:Kaitoke Pistol Club Summer league 6 - 8 pm (session 20 of 24)
LOCATION:Kaitoke Range
DESCRIPTION:https://hvnzda.org.nz/event-2687253\n\nRange booked for competition\, no casual use available during these times. Open to all B endorsed shooters.
DTSTAMP:20260424T141835Z
END:VEVENT
BEGIN:VEVENT
UID:WILD_APRICOT_EVENT_2687253_SESSION_21
DTSTART:20181128T050000Z
DTEND:20181128T070000Z
SUMMARY:Kaitoke Pistol Club Summer league 6 - 8 pm (session 21 of 24)
LOCATION:Kaitoke Range
DESCRIPTION:https://hvnzda.org.nz/event-2687253\n\nRange booked for competition\, no casual use available during these times. Open to all B endorsed shooters.
DTSTAMP:20260424T141835Z
END:VEVENT
BEGIN:VEVENT
UID:WILD_APRICOT_EVENT_2687253_SESSION_22
DTSTART:20181205T050000Z
DTEND:20181205T070000Z
SUMMARY:Kaitoke Pistol Club Summer league 6 - 8 pm (session 22 of 24)
LOCATION:Kaitoke Range
DESCRIPTION:https://hvnzda.org.nz/event-2687253\n\nRange booked for competition\, no casual use available during these times. Open to all B endorsed shooters.
DTSTAMP:20260424T141835Z
END:VEVENT
BEGIN:VEVENT
UID:WILD_APRICOT_EVENT_2687253_SESSION_23
DTSTART:20181212T050000Z
DTEND:20181212T070000Z
SUMMARY:Kaitoke Pistol Club Summer league 6 - 8 pm (session 23 of 24)
LOCATION:Kaitoke Range
DESCRIPTION:https://hvnzda.org.nz/event-2687253\n\nRange booked for competition\, no casual use available during these times. Open to all B endorsed shooters.
DTSTAMP:20260424T141835Z
END:VEVENT
BEGIN:VEVENT
UID:WILD_APRICOT_EVENT_2687253_SESSION_24
DTSTART:20181219T050000Z
DTEND:20181219T070000Z
SUMMARY:Kaitoke Pistol Club Summer league 6 - 8 pm (session 24 of 24)
LOCATION:Kaitoke Range
DESCRIPTION:https://hvnzda.org.nz/event-2687253\n\nRange booked for competition\, no casual use available during these times. Open to all B endorsed shooters.
DTSTAMP:20260424T141835Z
END:VEVENT
END:VCALENDAR
