BEGIN:VCALENDAR
VERSION:2.0
METHOD:PUBLISH
BEGIN:VEVENT
UID:WILD_APRICOT_EVENT_2680056_SESSION_1
DTSTART:20171016T223000Z
DTEND:20171017T023000Z
SUMMARY:Private Booking (No casual use)
LOCATION:Kaitoke Range
DESCRIPTION:https://hvnzda.org.nz/event-2680056\n\nPrivate booking - no casual use\n  \n\n  \n\n  \n\n  \n\n  *** DB ***\n\n
DTSTAMP:20260424T131241Z
END:VEVENT
END:VCALENDAR
