BEGIN:VCALENDAR
VERSION:2.0
METHOD:PUBLISH
BEGIN:VEVENT
UID:WILD_APRICOT_EVENT_2642563_SESSION_1
DTSTART:20170822T210000Z
DTEND:20170823T030000Z
SUMMARY:Private Booking - 9AM -3PM (session 1 of 3)
LOCATION:Kaitoke
DESCRIPTION:https://hvnzda.org.nz/event-2642563\n\nPrivate Booking - No casual use.\n  \n\n  \n\n  \n\n  **GNx3**\n
DTSTAMP:20260424T142611Z
END:VEVENT
BEGIN:VEVENT
UID:WILD_APRICOT_EVENT_2642563_SESSION_2
DTSTART:20170905T210000Z
DTEND:20170906T030000Z
SUMMARY:Private Booking - 9AM -3PM (session 2 of 3)
LOCATION:Kaitoke
DESCRIPTION:https://hvnzda.org.nz/event-2642563\n\nPrivate Booking - No casual use.\n  \n\n  \n\n  \n\n  **GNx3**\n
DTSTAMP:20260424T142611Z
END:VEVENT
BEGIN:VEVENT
UID:WILD_APRICOT_EVENT_2642563_SESSION_3
DTSTART:20170912T210000Z
DTEND:20170913T030000Z
SUMMARY:Private Booking - 9AM -3PM (session 3 of 3)
LOCATION:Kaitoke
DESCRIPTION:https://hvnzda.org.nz/event-2642563\n\nPrivate Booking - No casual use.\n  \n\n  \n\n  \n\n  **GNx3**\n
DTSTAMP:20260424T142611Z
END:VEVENT
END:VCALENDAR
