BEGIN:VCALENDAR
VERSION:2.0
METHOD:PUBLISH
BEGIN:VEVENT
UID:WILD_APRICOT_EVENT_2630204_SESSION_1
DTSTART:20170809T210000Z
DTEND:20170809T233000Z
SUMMARY:Range closed - Strictly no causal use!
LOCATION:Kaitoke
DESCRIPTION:https://hvnzda.org.nz/event-2630204\n\nRange closed - Strictly no causal use!\n
DTSTAMP:20260424T142018Z
END:VEVENT
END:VCALENDAR
