BEGIN:VCALENDAR
VERSION:2.0
METHOD:PUBLISH
BEGIN:VEVENT
UID:WILD_APRICOT_EVENT_2629600_SESSION_1
DTSTART:20170818T200000Z
DTEND:20170819T000000Z
SUMMARY:Range is closed for working bee
LOCATION:Kaitoke
DESCRIPTION:https://hvnzda.org.nz/event-2629600\n\nRange Closed - No Casual Use\n
DTSTAMP:20260424T131256Z
END:VEVENT
END:VCALENDAR
