BEGIN:VCALENDAR
VERSION:2.0
METHOD:PUBLISH
BEGIN:VEVENT
UID:WILD_APRICOT_EVENT_2626693_SESSION_1
DTSTART:20170804T200000Z
DTEND:20170805T000000Z
SUMMARY:Range is closed for working bee
LOCATION:Kaitoke
DESCRIPTION:https://hvnzda.org.nz/event-2626693\n\nRange Closed - No Casual Use\n
DTSTAMP:20260424T131732Z
END:VEVENT
END:VCALENDAR
