BEGIN:VCALENDAR
VERSION:2.0
METHOD:PUBLISH
BEGIN:VEVENT
UID:WILD_APRICOT_EVENT_2615763_SESSION_1
DTSTART:20170721T190000Z
DTEND:20170722T000000Z
SUMMARY:Working Bee - RANGE IS CLOSED!
LOCATION:Kaitoke
DESCRIPTION:https://hvnzda.org.nz/event-2615763\n\nClub Working Bee\n  Strictly no casual use!\n  \n\n
DTSTAMP:20260424T131404Z
END:VEVENT
END:VCALENDAR
