BEGIN:VCALENDAR
VERSION:2.0
METHOD:PUBLISH
BEGIN:VEVENT
UID:WILD_APRICOT_EVENT_2611575_SESSION_1
DTSTART:20170717T230000Z
DTEND:20170718T030000Z
SUMMARY:Private Booking - Range not available
LOCATION:Kaitoke Range
DESCRIPTION:https://hvnzda.org.nz/event-2611575\n\nPrivate Booking - Range not available\n\n
DTSTAMP:20260424T143403Z
END:VEVENT
END:VCALENDAR
