BEGIN:VCALENDAR
VERSION:2.0
METHOD:PUBLISH
BEGIN:VEVENT
UID:WILD_APRICOT_EVENT_2582285_SESSION_1
DTSTART:20170620T213000Z
DTEND:20170621T030000Z
SUMMARY:Private Booking - 0930AM -3PM (session 1 of 2)
LOCATION:Kaitoke
DESCRIPTION:https://hvnzda.org.nz/event-2582285\n\nPrivate Booking - No casual use.\n  \n\n  \n\n  \n\n  **GNx2**\n
DTSTAMP:20260424T115414Z
END:VEVENT
BEGIN:VEVENT
UID:WILD_APRICOT_EVENT_2582285_SESSION_2
DTSTART:20170627T213000Z
DTEND:20170628T030000Z
SUMMARY:Private Booking - 0930AM -3PM (session 2 of 2)
LOCATION:Kaitoke
DESCRIPTION:https://hvnzda.org.nz/event-2582285\n\nPrivate Booking - No casual use.\n  \n\n  \n\n  \n\n  **GNx2**\n
DTSTAMP:20260424T115414Z
END:VEVENT
END:VCALENDAR
