BEGIN:VCALENDAR
VERSION:2.0
METHOD:PUBLISH
BEGIN:VEVENT
UID:WILD_APRICOT_EVENT_2571881_SESSION_1
DTSTART:20171027T190000Z
DTEND:20171028T040000Z
SUMMARY:HTC Range Day\, Trip Planning (Range Unavailable).
LOCATION:Kaitoke Range
DESCRIPTION:https://hvnzda.org.nz/event-2571881\n\n*** HTC - No casual use ***\n  Simulated Hunt with different shooting positions and environments to the range (under pressure timed and scored with friendly comp on who is digging the long drops at hunt weekend).\n
DTSTAMP:20260424T132744Z
END:VEVENT
END:VCALENDAR
