BEGIN:VCALENDAR
VERSION:2.0
METHOD:PUBLISH
BEGIN:VEVENT
UID:WILD_APRICOT_EVENT_2546593_SESSION_1
DTSTART:20170725T213000Z
DTEND:20170726T020000Z
SUMMARY:Private Booking - No casual use (session 1 of 2)
LOCATION:Kaitoke
DESCRIPTION:https://hvnzda.org.nz/event-2546593\n\nPrivate Booking - No casual use\n\n  \n\n  \n\n  \n\n  ***HG\; 5/5/17***\n
DTSTAMP:20260424T130245Z
END:VEVENT
BEGIN:VEVENT
UID:WILD_APRICOT_EVENT_2546593_SESSION_2
DTSTART:20170808T213000Z
DTEND:20170809T020000Z
SUMMARY:Private Booking - No casual use (session 2 of 2)
LOCATION:Kaitoke
DESCRIPTION:https://hvnzda.org.nz/event-2546593\n\nPrivate Booking - No casual use\n\n  \n\n  \n\n  \n\n  ***HG\; 5/5/17***\n
DTSTAMP:20260424T130245Z
END:VEVENT
END:VCALENDAR
