BEGIN:VCALENDAR
VERSION:2.0
METHOD:PUBLISH
BEGIN:VEVENT
UID:WILD_APRICOT_EVENT_2546582_SESSION_1
DTSTART:20170512T200000Z
DTEND:20170513T010000Z
SUMMARY:Working Bee - RANGE IS CLOSED!
LOCATION:Kaitoke
DESCRIPTION:https://hvnzda.org.nz/event-2546582\n\nOld range hut removal\, working bee.\n\n  Hi Guys\, a final working bee is required to get the last of the old range hut down and into the bin.  Thank you to those members who have given up some of their valuable time to help dismantle the old range hut. With special mention Pete and Rich\, for running the job.\n  This working bee shouldn’t take long\, maybe 2 or 3 hrs should have the last of the old building down and ready for removal. Start time is 8am 13th of May.\n  The range will be closed till the completion of the work or midday.\n  Contact me on 027 5262006 if there’s any questions you have\n  Cheers John L\n  \n\n
DTSTAMP:20260424T115404Z
END:VEVENT
END:VCALENDAR
