BEGIN:VCALENDAR
VERSION:2.0
METHOD:PUBLISH
BEGIN:VEVENT
UID:WILD_APRICOT_EVENT_2546581_SESSION_1
DTSTART:20170516T213000Z
DTEND:20170517T030000Z
SUMMARY:Private Booking - 0930AM -3PM
LOCATION:Kaitoke
DESCRIPTION:https://hvnzda.org.nz/event-2546581\n\nPrivate Booking - No casual use.\n  \n\n  \n\n  \n\n  **GN**\n
DTSTAMP:20260424T141734Z
END:VEVENT
END:VCALENDAR
