BEGIN:VCALENDAR
VERSION:2.0
METHOD:PUBLISH
BEGIN:VEVENT
UID:WILD_APRICOT_EVENT_2527610_SESSION_1
DTSTART:20170428T200000Z
DTEND:20170429T010000Z
SUMMARY:HVNZDA Working Bee - RANGE CLOSED TO ALL SHOOTERS
LOCATION:Kaitoke
DESCRIPTION:https://hvnzda.org.nz/event-2527610\n\nHVNZDA Working Bee - RANGE IS CLOSED TO ALL SHOOTERS.\n  \n\n  \n\n  \n\n
DTSTAMP:20260424T143236Z
END:VEVENT
END:VCALENDAR
