BEGIN:VCALENDAR
VERSION:2.0
METHOD:PUBLISH
BEGIN:VEVENT
UID:WILD_APRICOT_EVENT_2521682_SESSION_1
DTSTART:20170414T200000Z
DTEND:20170415T010000Z
SUMMARY:Working Bee - Removal of old range hut.
LOCATION:Kaitoke
DESCRIPTION:https://hvnzda.org.nz/event-2521682\n\nHVNZDA Working Bee\n  Removal of old range hut.\n  We are holding a working bee at Kaitoke this coming Saturday the 15th of April. 8am start.\n  Pete and Rich\, both builders have very kindly offered to oversee the start of dismantling the old range hut up above the range floor\, to that end they would like help from ½ dozen builder types. A generator will be available for power tools.\n  Also later in the day some helpers to move the material down to the range floor to load into a skip bin would be a great help.\n  Does anyone have access to a cheap hire skip bin?\n   Any of the windows or wood is free to anyone who can take it away.\n  If you can spare an hour of two on the 15th it would be most appreciated.\n  The range will still be available for use\, but really would you feel bad\, if you didn’t help for a while before or after shooting.\n  A second day is planned on the 29th of April to continue the dismantling.\n  \n\n
DTSTAMP:20260424T131619Z
END:VEVENT
END:VCALENDAR
