BEGIN:VCALENDAR
VERSION:2.0
METHOD:PUBLISH
BEGIN:VEVENT
UID:WILD_APRICOT_EVENT_2510733_SESSION_1
DTSTART:20170416T203000Z
DTEND:20170417T003000Z
SUMMARY:Private Booking - 0830 - 1230
LOCATION:Kaitoke
DESCRIPTION:https://hvnzda.org.nz/event-2510733\n\nPrivate Booking - No casual use.\n  \n\n  \n\n  \n\n  **Inv**\n
DTSTAMP:20260424T143059Z
END:VEVENT
END:VCALENDAR
