BEGIN:VCALENDAR
VERSION:2.0
METHOD:PUBLISH
BEGIN:VEVENT
UID:WILD_APRICOT_EVENT_2488582_SESSION_1
DTSTART:20170308T020000Z
DTEND:20170308T050000Z
SUMMARY:Range closed for maintenance - no use allowed!
LOCATION:Kaitoke
DESCRIPTION:https://hvnzda.org.nz/event-2488582\n\nRange closed for maintenance - no use permitted!\n\n
DTSTAMP:20260424T130317Z
END:VEVENT
END:VCALENDAR
