BEGIN:VCALENDAR
VERSION:2.0
METHOD:PUBLISH
BEGIN:VEVENT
UID:WILD_APRICOT_EVENT_2486847_SESSION_1
DTSTART:20170307T203000Z
DTEND:20170308T020000Z
SUMMARY:Private Booking - 0930AM -3PM (session 1 of 2)
LOCATION:Kaitoke
DESCRIPTION:https://hvnzda.org.nz/event-2486847\n\nPrivate Booking - No casual use.\n  \n\n  \n\n  \n\n  **GN**\n
DTSTAMP:20260424T154215Z
END:VEVENT
BEGIN:VEVENT
UID:WILD_APRICOT_EVENT_2486847_SESSION_2
DTSTART:20170314T203000Z
DTEND:20170315T020000Z
SUMMARY:Private Booking - 0930AM -3PM (session 2 of 2)
LOCATION:Kaitoke
DESCRIPTION:https://hvnzda.org.nz/event-2486847\n\nPrivate Booking - No casual use.\n  \n\n  \n\n  \n\n  **GN**\n
DTSTAMP:20260424T154215Z
END:VEVENT
END:VCALENDAR
