BEGIN:VCALENDAR
VERSION:2.0
METHOD:PUBLISH
BEGIN:VEVENT
UID:WILD_APRICOT_EVENT_2479075_SESSION_1
DTSTART:20170228T203000Z
DTEND:20170301T020000Z
SUMMARY:Private Booking - 0930AM -3PM
LOCATION:Kaitoke
DESCRIPTION:https://hvnzda.org.nz/event-2479075\n\nPrivate Booking - No casual use.\n  \n\n  \n\n  \n\n  **GN**\n
DTSTAMP:20260424T144135Z
END:VEVENT
END:VCALENDAR
