BEGIN:VCALENDAR
VERSION:2.0
METHOD:PUBLISH
BEGIN:VEVENT
UID:WILD_APRICOT_EVENT_2477997_SESSION_1
DTSTART:20170128T233000Z
DTEND:20170129T033000Z
SUMMARY:NZDA - Sole Use - PM
LOCATION:Kaitoke Range
DESCRIPTION:https://hvnzda.org.nz/event-2477997\n\n      Regular branch shoot     \n  \n
DTSTAMP:20260424T115342Z
END:VEVENT
END:VCALENDAR
