BEGIN:VCALENDAR
VERSION:2.0
METHOD:PUBLISH
BEGIN:VEVENT
UID:WILD_APRICOT_EVENT_2477996_SESSION_1
DTSTART:20170930T193000Z
DTEND:20170930T233000Z
SUMMARY:Wellington Service Rifle (WSRA) - AM
LOCATION:Kaitoke
DESCRIPTION:https://hvnzda.org.nz/event-2477996\n\nSole use by WSRA. \n  Go to wsra.org.nz for more information.\n
DTSTAMP:20260424T141717Z
END:VEVENT
END:VCALENDAR
