BEGIN:VCALENDAR
VERSION:2.0
METHOD:PUBLISH
BEGIN:VEVENT
UID:WILD_APRICOT_EVENT_2477994_SESSION_1
DTSTART:20170401T200000Z
DTEND:20170402T050000Z
SUMMARY:Wellington Service Rifle (WSRA) - All Day (session 1 of 12)
LOCATION:Kaitoke
DESCRIPTION:https://hvnzda.org.nz/event-2477994\n\n Exclusive use by Wellington Service Rifle.
DTSTAMP:20260424T115537Z
END:VEVENT
BEGIN:VEVENT
UID:WILD_APRICOT_EVENT_2477994_SESSION_2
DTSTART:20170424T200000Z
DTEND:20170425T050000Z
SUMMARY:Wellington Service Rifle (WSRA) - All Day (session 2 of 12)
LOCATION:Kaitoke
DESCRIPTION:https://hvnzda.org.nz/event-2477994\n\n Exclusive use by Wellington Service Rifle.
DTSTAMP:20260424T115537Z
END:VEVENT
BEGIN:VEVENT
UID:WILD_APRICOT_EVENT_2477994_SESSION_3
DTSTART:20170513T200000Z
DTEND:20170514T050000Z
SUMMARY:Wellington Service Rifle (WSRA) - All Day (session 3 of 12)
LOCATION:Kaitoke
DESCRIPTION:https://hvnzda.org.nz/event-2477994\n\n Exclusive use by Wellington Service Rifle.
DTSTAMP:20260424T115537Z
END:VEVENT
BEGIN:VEVENT
UID:WILD_APRICOT_EVENT_2477994_SESSION_4
DTSTART:20170610T200000Z
DTEND:20170611T050000Z
SUMMARY:Wellington Service Rifle (WSRA) - All Day (session 4 of 12)
LOCATION:Kaitoke
DESCRIPTION:https://hvnzda.org.nz/event-2477994\n\n Exclusive use by Wellington Service Rifle.
DTSTAMP:20260424T115537Z
END:VEVENT
BEGIN:VEVENT
UID:WILD_APRICOT_EVENT_2477994_SESSION_5
DTSTART:20170701T200000Z
DTEND:20170702T050000Z
SUMMARY:Wellington Service Rifle (WSRA) - All Day (session 5 of 12)
LOCATION:Kaitoke
DESCRIPTION:https://hvnzda.org.nz/event-2477994\n\n Exclusive use by Wellington Service Rifle.
DTSTAMP:20260424T115537Z
END:VEVENT
BEGIN:VEVENT
UID:WILD_APRICOT_EVENT_2477994_SESSION_6
DTSTART:20170715T200000Z
DTEND:20170716T050000Z
SUMMARY:Wellington Service Rifle (WSRA) - All Day (session 6 of 12)
LOCATION:Kaitoke
DESCRIPTION:https://hvnzda.org.nz/event-2477994\n\n Exclusive use by Wellington Service Rifle.
DTSTAMP:20260424T115537Z
END:VEVENT
BEGIN:VEVENT
UID:WILD_APRICOT_EVENT_2477994_SESSION_7
DTSTART:20170812T200000Z
DTEND:20170813T050000Z
SUMMARY:Wellington Service Rifle (WSRA) - All Day (session 7 of 12)
LOCATION:Kaitoke
DESCRIPTION:https://hvnzda.org.nz/event-2477994\n\n Exclusive use by Wellington Service Rifle.
DTSTAMP:20260424T115537Z
END:VEVENT
BEGIN:VEVENT
UID:WILD_APRICOT_EVENT_2477994_SESSION_8
DTSTART:20170909T200000Z
DTEND:20170910T050000Z
SUMMARY:Wellington Service Rifle (WSRA) - All Day (session 8 of 12)
LOCATION:Kaitoke
DESCRIPTION:https://hvnzda.org.nz/event-2477994\n\n Exclusive use by Wellington Service Rifle.
DTSTAMP:20260424T115537Z
END:VEVENT
BEGIN:VEVENT
UID:WILD_APRICOT_EVENT_2477994_SESSION_9
DTSTART:20170923T190000Z
DTEND:20170924T040000Z
SUMMARY:Wellington Service Rifle (WSRA) - All Day (session 9 of 12)
LOCATION:Kaitoke
DESCRIPTION:https://hvnzda.org.nz/event-2477994\n\n Exclusive use by Wellington Service Rifle.
DTSTAMP:20260424T115537Z
END:VEVENT
BEGIN:VEVENT
UID:WILD_APRICOT_EVENT_2477994_SESSION_10
DTSTART:20171014T190000Z
DTEND:20171015T040000Z
SUMMARY:Wellington Service Rifle (WSRA) - All Day (session 10 of 12)
LOCATION:Kaitoke
DESCRIPTION:https://hvnzda.org.nz/event-2477994\n\n Exclusive use by Wellington Service Rifle.
DTSTAMP:20260424T115537Z
END:VEVENT
BEGIN:VEVENT
UID:WILD_APRICOT_EVENT_2477994_SESSION_11
DTSTART:20171111T190000Z
DTEND:20171112T040000Z
SUMMARY:Wellington Service Rifle (WSRA) - All Day (session 11 of 12)
LOCATION:Kaitoke
DESCRIPTION:https://hvnzda.org.nz/event-2477994\n\n Exclusive use by Wellington Service Rifle.
DTSTAMP:20260424T115537Z
END:VEVENT
BEGIN:VEVENT
UID:WILD_APRICOT_EVENT_2477994_SESSION_12
DTSTART:20171209T190000Z
DTEND:20171210T040000Z
SUMMARY:Wellington Service Rifle (WSRA) - All Day (session 12 of 12)
LOCATION:Kaitoke
DESCRIPTION:https://hvnzda.org.nz/event-2477994\n\n Exclusive use by Wellington Service Rifle.
DTSTAMP:20260424T115537Z
END:VEVENT
END:VCALENDAR
