BEGIN:VCALENDAR
VERSION:2.0
METHOD:PUBLISH
BEGIN:VEVENT
UID:WILD_APRICOT_EVENT_2467652_SESSION_1
DTSTART:20170325T193000Z
DTEND:20170326T033000Z
SUMMARY:KPC - All Day - Sole Use (session 1 of 6)
LOCATION:Kaitoke Range
DESCRIPTION:https://hvnzda.org.nz/event-2467652\n\nExclusive use of the range by Kaitoke Pistol Club\n
DTSTAMP:20260424T170649Z
END:VEVENT
BEGIN:VEVENT
UID:WILD_APRICOT_EVENT_2467652_SESSION_2
DTSTART:20170422T203000Z
DTEND:20170423T043000Z
SUMMARY:KPC - All Day - Sole Use (session 2 of 6)
LOCATION:Kaitoke Range
DESCRIPTION:https://hvnzda.org.nz/event-2467652\n\nExclusive use of the range by Kaitoke Pistol Club\n
DTSTAMP:20260424T170649Z
END:VEVENT
BEGIN:VEVENT
UID:WILD_APRICOT_EVENT_2467652_SESSION_3
DTSTART:20170520T203000Z
DTEND:20170521T043000Z
SUMMARY:KPC - All Day - Sole Use (session 3 of 6)
LOCATION:Kaitoke Range
DESCRIPTION:https://hvnzda.org.nz/event-2467652\n\nExclusive use of the range by Kaitoke Pistol Club\n
DTSTAMP:20260424T170649Z
END:VEVENT
BEGIN:VEVENT
UID:WILD_APRICOT_EVENT_2467652_SESSION_4
DTSTART:20170826T203000Z
DTEND:20170827T043000Z
SUMMARY:KPC - All Day - Sole Use (session 4 of 6)
LOCATION:Kaitoke Range
DESCRIPTION:https://hvnzda.org.nz/event-2467652\n\nExclusive use of the range by Kaitoke Pistol Club\n
DTSTAMP:20260424T170649Z
END:VEVENT
BEGIN:VEVENT
UID:WILD_APRICOT_EVENT_2467652_SESSION_5
DTSTART:20171028T193000Z
DTEND:20171029T033000Z
SUMMARY:KPC - All Day - Sole Use (session 5 of 6)
LOCATION:Kaitoke Range
DESCRIPTION:https://hvnzda.org.nz/event-2467652\n\nExclusive use of the range by Kaitoke Pistol Club\n
DTSTAMP:20260424T170649Z
END:VEVENT
BEGIN:VEVENT
UID:WILD_APRICOT_EVENT_2467652_SESSION_6
DTSTART:20171125T193000Z
DTEND:20171126T033000Z
SUMMARY:KPC - All Day - Sole Use (session 6 of 6)
LOCATION:Kaitoke Range
DESCRIPTION:https://hvnzda.org.nz/event-2467652\n\nExclusive use of the range by Kaitoke Pistol Club\n
DTSTAMP:20260424T170649Z
END:VEVENT
END:VCALENDAR
