BEGIN:VCALENDAR
VERSION:2.0
METHOD:PUBLISH
BEGIN:VEVENT
UID:WILD_APRICOT_EVENT_2467647_SESSION_1
DTSTART:20170218T193000Z
DTEND:20170219T033000Z
SUMMARY:Antique Arms Association (AAA) - Sole Use - All day (session 1 of 6)
LOCATION:Kaitoke Range
DESCRIPTION:https://hvnzda.org.nz/event-2467647\n\nExclusive use of the range by the Antique Arms Association (AAA).\n
DTSTAMP:20260424T115255Z
END:VEVENT
BEGIN:VEVENT
UID:WILD_APRICOT_EVENT_2467647_SESSION_2
DTSTART:20170318T193000Z
DTEND:20170319T033000Z
SUMMARY:Antique Arms Association (AAA) - Sole Use - All day (session 2 of 6)
LOCATION:Kaitoke Range
DESCRIPTION:https://hvnzda.org.nz/event-2467647\n\nExclusive use of the range by the Antique Arms Association (AAA).\n
DTSTAMP:20260424T115255Z
END:VEVENT
BEGIN:VEVENT
UID:WILD_APRICOT_EVENT_2467647_SESSION_3
DTSTART:20170916T203000Z
DTEND:20170917T043000Z
SUMMARY:Antique Arms Association (AAA) - Sole Use - All day (session 3 of 6)
LOCATION:Kaitoke Range
DESCRIPTION:https://hvnzda.org.nz/event-2467647\n\nExclusive use of the range by the Antique Arms Association (AAA).\n
DTSTAMP:20260424T115255Z
END:VEVENT
BEGIN:VEVENT
UID:WILD_APRICOT_EVENT_2467647_SESSION_4
DTSTART:20171021T193000Z
DTEND:20171022T033000Z
SUMMARY:Antique Arms Association (AAA) - Sole Use - All day (session 4 of 6)
LOCATION:Kaitoke Range
DESCRIPTION:https://hvnzda.org.nz/event-2467647\n\nExclusive use of the range by the Antique Arms Association (AAA).\n
DTSTAMP:20260424T115255Z
END:VEVENT
BEGIN:VEVENT
UID:WILD_APRICOT_EVENT_2467647_SESSION_5
DTSTART:20171118T193000Z
DTEND:20171119T033000Z
SUMMARY:Antique Arms Association (AAA) - Sole Use - All day (session 5 of 6)
LOCATION:Kaitoke Range
DESCRIPTION:https://hvnzda.org.nz/event-2467647\n\nExclusive use of the range by the Antique Arms Association (AAA).\n
DTSTAMP:20260424T115255Z
END:VEVENT
BEGIN:VEVENT
UID:WILD_APRICOT_EVENT_2467647_SESSION_6
DTSTART:20171216T193000Z
DTEND:20171217T033000Z
SUMMARY:Antique Arms Association (AAA) - Sole Use - All day (session 6 of 6)
LOCATION:Kaitoke Range
DESCRIPTION:https://hvnzda.org.nz/event-2467647\n\nExclusive use of the range by the Antique Arms Association (AAA).\n
DTSTAMP:20260424T115255Z
END:VEVENT
END:VCALENDAR
