BEGIN:VCALENDAR
VERSION:2.0
METHOD:PUBLISH
BEGIN:VEVENT
UID:WILD_APRICOT_EVENT_2460603_SESSION_1
DTSTART:20170211T233000Z
DTEND:20170212T033000Z
SUMMARY:Wellington Service Rifle (WSRA) - PM
LOCATION:Kaitoke
DESCRIPTION:https://hvnzda.org.nz/event-2460603\n\nSole use by WSRA. \n  Go to wsra.org.nz for more information.\n
DTSTAMP:20260424T115226Z
END:VEVENT
END:VCALENDAR
