BEGIN:VCALENDAR
VERSION:2.0
METHOD:PUBLISH
BEGIN:VEVENT
UID:WILD_APRICOT_EVENT_2460601_SESSION_1
DTSTART:20170211T193000Z
DTEND:20170211T233000Z
SUMMARY:KPC - AM - Sole Use
LOCATION:Kaitoke Range
DESCRIPTION:https://hvnzda.org.nz/event-2460601\n\nExclusive use of the range by Kaitoke Pistol Club\n
DTSTAMP:20260424T142004Z
END:VEVENT
END:VCALENDAR
