BEGIN:VCALENDAR
VERSION:2.0
METHOD:PUBLISH
BEGIN:VEVENT
UID:WILD_APRICOT_EVENT_2460600_SESSION_1
DTSTART:20170212T110000Z
DTEND:20170219T103000Z
SUMMARY:Road maintenance all week - PLEASE READ
LOCATION:Kaitoke Range
DESCRIPTION:https://hvnzda.org.nz/event-2460600\n\nThe week of 13 February \, culvert maintenance is programmed along the Rail Trail between the main gate and the next one by the range.\n  This will entail digging up the trail.\n  There will be pedestrian access only \, so no vehicles.\nSignage will be in place.
DTSTAMP:20260424T115454Z
END:VEVENT
END:VCALENDAR
