BEGIN:VCALENDAR
VERSION:2.0
METHOD:PUBLISH
BEGIN:VEVENT
UID:WILD_APRICOT_EVENT_2460599_SESSION_1
DTSTART:20170220T040000Z
DTEND:20170220T070000Z
SUMMARY:Private Booking - No casual use
LOCATION:Kaitoke Range
DESCRIPTION:https://hvnzda.org.nz/event-2460599\n\nPrivate Booking - No casual use.\n  \n\n  \n\n  \n\n  \n\n  \n\n  \n\n  \n\n  \n\n  \n\n  ***WC***\n\n
DTSTAMP:20260424T115853Z
END:VEVENT
END:VCALENDAR
