BEGIN:VCALENDAR
VERSION:2.0
METHOD:PUBLISH
BEGIN:VEVENT
UID:WILD_APRICOT_EVENT_2456312_SESSION_1
DTSTART:20170207T230000Z
DTEND:20170208T050000Z
SUMMARY:Range is closed for maintenance
LOCATION:Kaitoke Range
DESCRIPTION:https://hvnzda.org.nz/event-2456312\n\nRange is closed for maintenance\n
DTSTAMP:20260424T131231Z
END:VEVENT
END:VCALENDAR
