BEGIN:VCALENDAR
VERSION:2.0
METHOD:PUBLISH
BEGIN:VEVENT
UID:WILD_APRICOT_EVENT_2435980_SESSION_1
DTSTART:20170121T193000Z
DTEND:20170121T233000Z
SUMMARY:KPC - 0830 - 1230 - Sole Use (session 1 of 16)
LOCATION:Kaitoke Range
DESCRIPTION:https://hvnzda.org.nz/event-2435980\n\nExclusive use of the range by Kaitoke Pistol Club.\n
DTSTAMP:20260424T131753Z
END:VEVENT
BEGIN:VEVENT
UID:WILD_APRICOT_EVENT_2435980_SESSION_2
DTSTART:20170304T193000Z
DTEND:20170304T233000Z
SUMMARY:KPC - 0830 - 1230 - Sole Use (session 2 of 16)
LOCATION:Kaitoke Range
DESCRIPTION:https://hvnzda.org.nz/event-2435980\n\nExclusive use of the range by Kaitoke Pistol Club.\n
DTSTAMP:20260424T131753Z
END:VEVENT
BEGIN:VEVENT
UID:WILD_APRICOT_EVENT_2435980_SESSION_3
DTSTART:20170408T203000Z
DTEND:20170409T003000Z
SUMMARY:KPC - 0830 - 1230 - Sole Use (session 3 of 16)
LOCATION:Kaitoke Range
DESCRIPTION:https://hvnzda.org.nz/event-2435980\n\nExclusive use of the range by Kaitoke Pistol Club.\n
DTSTAMP:20260424T131753Z
END:VEVENT
BEGIN:VEVENT
UID:WILD_APRICOT_EVENT_2435980_SESSION_4
DTSTART:20170506T203000Z
DTEND:20170507T003000Z
SUMMARY:KPC - 0830 - 1230 - Sole Use (session 4 of 16)
LOCATION:Kaitoke Range
DESCRIPTION:https://hvnzda.org.nz/event-2435980\n\nExclusive use of the range by Kaitoke Pistol Club.\n
DTSTAMP:20260424T131753Z
END:VEVENT
BEGIN:VEVENT
UID:WILD_APRICOT_EVENT_2435980_SESSION_5
DTSTART:20170603T203000Z
DTEND:20170604T003000Z
SUMMARY:KPC - 0830 - 1230 - Sole Use (session 5 of 16)
LOCATION:Kaitoke Range
DESCRIPTION:https://hvnzda.org.nz/event-2435980\n\nExclusive use of the range by Kaitoke Pistol Club.\n
DTSTAMP:20260424T131753Z
END:VEVENT
BEGIN:VEVENT
UID:WILD_APRICOT_EVENT_2435980_SESSION_6
DTSTART:20170617T203000Z
DTEND:20170618T003000Z
SUMMARY:KPC - 0830 - 1230 - Sole Use (session 6 of 16)
LOCATION:Kaitoke Range
DESCRIPTION:https://hvnzda.org.nz/event-2435980\n\nExclusive use of the range by Kaitoke Pistol Club.\n
DTSTAMP:20260424T131753Z
END:VEVENT
BEGIN:VEVENT
UID:WILD_APRICOT_EVENT_2435980_SESSION_7
DTSTART:20170624T203000Z
DTEND:20170625T003000Z
SUMMARY:KPC - 0830 - 1230 - Sole Use (session 7 of 16)
LOCATION:Kaitoke Range
DESCRIPTION:https://hvnzda.org.nz/event-2435980\n\nExclusive use of the range by Kaitoke Pistol Club.\n
DTSTAMP:20260424T131753Z
END:VEVENT
BEGIN:VEVENT
UID:WILD_APRICOT_EVENT_2435980_SESSION_8
DTSTART:20170708T203000Z
DTEND:20170709T003000Z
SUMMARY:KPC - 0830 - 1230 - Sole Use (session 8 of 16)
LOCATION:Kaitoke Range
DESCRIPTION:https://hvnzda.org.nz/event-2435980\n\nExclusive use of the range by Kaitoke Pistol Club.\n
DTSTAMP:20260424T131753Z
END:VEVENT
BEGIN:VEVENT
UID:WILD_APRICOT_EVENT_2435980_SESSION_9
DTSTART:20170722T203000Z
DTEND:20170723T003000Z
SUMMARY:KPC - 0830 - 1230 - Sole Use (session 9 of 16)
LOCATION:Kaitoke Range
DESCRIPTION:https://hvnzda.org.nz/event-2435980\n\nExclusive use of the range by Kaitoke Pistol Club.\n
DTSTAMP:20260424T131753Z
END:VEVENT
BEGIN:VEVENT
UID:WILD_APRICOT_EVENT_2435980_SESSION_10
DTSTART:20170729T203000Z
DTEND:20170730T003000Z
SUMMARY:KPC - 0830 - 1230 - Sole Use (session 10 of 16)
LOCATION:Kaitoke Range
DESCRIPTION:https://hvnzda.org.nz/event-2435980\n\nExclusive use of the range by Kaitoke Pistol Club.\n
DTSTAMP:20260424T131753Z
END:VEVENT
BEGIN:VEVENT
UID:WILD_APRICOT_EVENT_2435980_SESSION_11
DTSTART:20170805T203000Z
DTEND:20170806T003000Z
SUMMARY:KPC - 0830 - 1230 - Sole Use (session 11 of 16)
LOCATION:Kaitoke Range
DESCRIPTION:https://hvnzda.org.nz/event-2435980\n\nExclusive use of the range by Kaitoke Pistol Club.\n
DTSTAMP:20260424T131753Z
END:VEVENT
BEGIN:VEVENT
UID:WILD_APRICOT_EVENT_2435980_SESSION_12
DTSTART:20170819T203000Z
DTEND:20170820T003000Z
SUMMARY:KPC - 0830 - 1230 - Sole Use (session 12 of 16)
LOCATION:Kaitoke Range
DESCRIPTION:https://hvnzda.org.nz/event-2435980\n\nExclusive use of the range by Kaitoke Pistol Club.\n
DTSTAMP:20260424T131753Z
END:VEVENT
BEGIN:VEVENT
UID:WILD_APRICOT_EVENT_2435980_SESSION_13
DTSTART:20170902T203000Z
DTEND:20170903T003000Z
SUMMARY:KPC - 0830 - 1230 - Sole Use (session 13 of 16)
LOCATION:Kaitoke Range
DESCRIPTION:https://hvnzda.org.nz/event-2435980\n\nExclusive use of the range by Kaitoke Pistol Club.\n
DTSTAMP:20260424T131753Z
END:VEVENT
BEGIN:VEVENT
UID:WILD_APRICOT_EVENT_2435980_SESSION_14
DTSTART:20171007T193000Z
DTEND:20171007T233000Z
SUMMARY:KPC - 0830 - 1230 - Sole Use (session 14 of 16)
LOCATION:Kaitoke Range
DESCRIPTION:https://hvnzda.org.nz/event-2435980\n\nExclusive use of the range by Kaitoke Pistol Club.\n
DTSTAMP:20260424T131753Z
END:VEVENT
BEGIN:VEVENT
UID:WILD_APRICOT_EVENT_2435980_SESSION_15
DTSTART:20171104T193000Z
DTEND:20171104T233000Z
SUMMARY:KPC - 0830 - 1230 - Sole Use (session 15 of 16)
LOCATION:Kaitoke Range
DESCRIPTION:https://hvnzda.org.nz/event-2435980\n\nExclusive use of the range by Kaitoke Pistol Club.\n
DTSTAMP:20260424T131753Z
END:VEVENT
BEGIN:VEVENT
UID:WILD_APRICOT_EVENT_2435980_SESSION_16
DTSTART:20171202T193000Z
DTEND:20171202T233000Z
SUMMARY:KPC - 0830 - 1230 - Sole Use (session 16 of 16)
LOCATION:Kaitoke Range
DESCRIPTION:https://hvnzda.org.nz/event-2435980\n\nExclusive use of the range by Kaitoke Pistol Club.\n
DTSTAMP:20260424T131753Z
END:VEVENT
END:VCALENDAR
