BEGIN:VCALENDAR
VERSION:2.0
METHOD:PUBLISH
BEGIN:VEVENT
UID:WILD_APRICOT_EVENT_2435964_SESSION_1
DTSTART:20170118T050000Z
DTEND:20170118T070000Z
SUMMARY:HVNZDA club meeting /  .22 shoot (session 1 of 2)
LOCATION:Kaitoke Range
DESCRIPTION:https://hvnzda.org.nz/event-2435964\n\nKids .22 shoot and BYO BBQ - All welcome.
DTSTAMP:20260424T142718Z
END:VEVENT
BEGIN:VEVENT
UID:WILD_APRICOT_EVENT_2435964_SESSION_2
DTSTART:20170215T050000Z
DTEND:20170215T070000Z
SUMMARY:HVNZDA club meeting /  .22 shoot (session 2 of 2)
LOCATION:Kaitoke Range
DESCRIPTION:https://hvnzda.org.nz/event-2435964\n\nKids .22 shoot and BYO BBQ - All welcome.
DTSTAMP:20260424T142718Z
END:VEVENT
END:VCALENDAR
