BEGIN:VCALENDAR
VERSION:2.0
METHOD:PUBLISH
BEGIN:VEVENT
UID:WILD_APRICOT_EVENT_2432825_SESSION_1
DTSTART:20170114T190000Z
DTEND:20170115T040000Z
SUMMARY:Wellington Service Rifle (WSRA) - All Day (session 1 of 3)
LOCATION:Kaitoke
DESCRIPTION:https://hvnzda.org.nz/event-2432825\n\nExclusive use by Wellington Service Rifle.
DTSTAMP:20260424T131650Z
END:VEVENT
BEGIN:VEVENT
UID:WILD_APRICOT_EVENT_2432825_SESSION_2
DTSTART:20170205T190000Z
DTEND:20170206T040000Z
SUMMARY:Wellington Service Rifle (WSRA) - All Day (session 2 of 3)
LOCATION:Kaitoke
DESCRIPTION:https://hvnzda.org.nz/event-2432825\n\nExclusive use by Wellington Service Rifle.
DTSTAMP:20260424T131650Z
END:VEVENT
BEGIN:VEVENT
UID:WILD_APRICOT_EVENT_2432825_SESSION_3
DTSTART:20170311T190000Z
DTEND:20170312T040000Z
SUMMARY:Wellington Service Rifle (WSRA) - All Day (session 3 of 3)
LOCATION:Kaitoke
DESCRIPTION:https://hvnzda.org.nz/event-2432825\n\nExclusive use by Wellington Service Rifle.
DTSTAMP:20260424T131650Z
END:VEVENT
END:VCALENDAR
