BEGIN:VCALENDAR
VERSION:2.0
METHOD:PUBLISH
BEGIN:VEVENT
UID:WILD_APRICOT_EVENT_2428694_SESSION_1
DTSTART:20170110T203000Z
DTEND:20170111T020000Z
SUMMARY:Private Booking - 0930AM -3PM
LOCATION:Kaitoke
DESCRIPTION:https://hvnzda.org.nz/event-2428694\n\nPrivate Booking - No casual use.\n  \n\n  \n\n  \n\n  **GN**\n
DTSTAMP:20260424T115423Z
END:VEVENT
END:VCALENDAR
