BEGIN:VCALENDAR
VERSION:2.0
METHOD:PUBLISH
BEGIN:VEVENT
UID:WILD_APRICOT_EVENT_2425637_SESSION_1
DTSTART:20170107T193000Z
DTEND:20170108T033000Z
SUMMARY:KPC - All Day - Sole Use
LOCATION:Kaitoke Range
DESCRIPTION:https://hvnzda.org.nz/event-2425637\n\nExclusive use of the range by Kaitoke Pistol Club\n
DTSTAMP:20260424T130428Z
END:VEVENT
END:VCALENDAR
