BEGIN:VCALENDAR
VERSION:2.0
METHOD:PUBLISH
BEGIN:VEVENT
UID:WILD_APRICOT_EVENT_2410369_SESSION_1
DTSTART:20161226T193000Z
DTEND:20161226T233000Z
SUMMARY:Private booking - no casual use (0830 - 1230)
LOCATION:Kaitoke
DESCRIPTION:https://hvnzda.org.nz/event-2410369\n\nPrivate booking - no casual use\n\n
DTSTAMP:20260424T131336Z
END:VEVENT
END:VCALENDAR
