BEGIN:VCALENDAR
VERSION:2.0
METHOD:PUBLISH
BEGIN:VEVENT
UID:WILD_APRICOT_EVENT_2406290_SESSION_1
DTSTART:20161221T193000Z
DTEND:20161221T233000Z
SUMMARY:Private booking - no casual use
LOCATION:Kaitoke Range
DESCRIPTION:https://hvnzda.org.nz/event-2406290\n\nPrivate booking - no casual use\n  \n\n  **MT**\n\n
DTSTAMP:20260424T130457Z
END:VEVENT
END:VCALENDAR
