BEGIN:VCALENDAR
VERSION:2.0
METHOD:PUBLISH
BEGIN:VEVENT
UID:WILD_APRICOT_EVENT_2400275_SESSION_1
DTSTART:20161215T193000Z
DTEND:20161215T233000Z
SUMMARY:Private Booking - No casual use
LOCATION:Kaitoke
DESCRIPTION:https://hvnzda.org.nz/event-2400275\n\nPrivate Booking - No casual use\n  \n\n  \n\n  **BW**\n\n
DTSTAMP:20260424T131558Z
END:VEVENT
END:VCALENDAR
