BEGIN:VCALENDAR
VERSION:2.0
METHOD:PUBLISH
BEGIN:VEVENT
UID:WILD_APRICOT_EVENT_2400274_SESSION_1
DTSTART:20161219T233000Z
DTEND:20161220T033000Z
SUMMARY:Private Booking - No casual use
LOCATION:Kaitoke Range
DESCRIPTION:https://hvnzda.org.nz/event-2400274\n\nPrivate Booking - no casual use.\n\n  \n\n  \n\n  ***WC***\n
DTSTAMP:20260424T115731Z
END:VEVENT
END:VCALENDAR
