BEGIN:VCALENDAR
VERSION:2.0
METHOD:PUBLISH
BEGIN:VEVENT
UID:WILD_APRICOT_EVENT_2400270_SESSION_1
DTSTART:20161212T193000Z
DTEND:20161212T233000Z
SUMMARY:Private Booking - No casual use.
LOCATION:Kaitoke Range
DESCRIPTION:https://hvnzda.org.nz/event-2400270\n\nPrivate Booking - No casual use.\n  \n\n  \n\n  **MD**\n\n
DTSTAMP:20260424T130040Z
END:VEVENT
END:VCALENDAR
