BEGIN:VCALENDAR
VERSION:2.0
METHOD:PUBLISH
BEGIN:VEVENT
UID:WILD_APRICOT_EVENT_2395806_SESSION_1
DTSTART:20161207T233000Z
DTEND:20161208T033000Z
SUMMARY:Private Booking - No casual use (session 1 of 2)
LOCATION:Kaitoke Range
DESCRIPTION:https://hvnzda.org.nz/event-2395806\n\nPrivate Booking: 1230 - 1630\n  *** No Casual Use ***\n  \n\n  \n\n  \n\n  \n\n  \n\n  \n\n  \n\n  \n\n  \n\n  ***WC x2***\n
DTSTAMP:20260424T143207Z
END:VEVENT
BEGIN:VEVENT
UID:WILD_APRICOT_EVENT_2395806_SESSION_2
DTSTART:20161226T233000Z
DTEND:20161227T033000Z
SUMMARY:Private Booking - No casual use (session 2 of 2)
LOCATION:Kaitoke Range
DESCRIPTION:https://hvnzda.org.nz/event-2395806\n\nPrivate Booking: 1230 - 1630\n  *** No Casual Use ***\n  \n\n  \n\n  \n\n  \n\n  \n\n  \n\n  \n\n  \n\n  \n\n  ***WC x2***\n
DTSTAMP:20260424T143207Z
END:VEVENT
END:VCALENDAR
