BEGIN:VCALENDAR
VERSION:2.0
METHOD:PUBLISH
BEGIN:VEVENT
UID:WILD_APRICOT_EVENT_2377252_SESSION_1
DTSTART:20161111T190000Z
DTEND:20161112T000000Z
SUMMARY:Range is open but ROAD IS CLOSED\, please do not drive to the range form the gate
LOCATION:Kaitoke Range
DESCRIPTION:https://hvnzda.org.nz/event-2377252\n\nThe range road will be closed between 0800 - 1300 for an event. Please do not drive past the car-park / range gate\, thanks for your co-operation.\n\n  \n\n  \n\n
DTSTAMP:20260424T122841Z
END:VEVENT
END:VCALENDAR
