BEGIN:VCALENDAR
VERSION:2.0
METHOD:PUBLISH
BEGIN:VEVENT
UID:WILD_APRICOT_EVENT_2377248_SESSION_1
DTSTART:20161110T193000Z
DTEND:20161110T233000Z
SUMMARY:Private Booking (0830 - 1230).
LOCATION:Kaitoke Range
DESCRIPTION:https://hvnzda.org.nz/event-2377248\n\nPrivate Booking: 0830 - 1230.\n  \n\n  *** No Casual Use ***\n  \n\n  (AE).\n\n
DTSTAMP:20260424T115445Z
END:VEVENT
END:VCALENDAR
