BEGIN:VCALENDAR
VERSION:2.0
METHOD:PUBLISH
BEGIN:VEVENT
UID:WILD_APRICOT_EVENT_2368485_SESSION_1
DTSTART:20161118T190000Z
DTEND:20161119T000000Z
SUMMARY:Range working bee
LOCATION:Kaitoke Range
DESCRIPTION:https://hvnzda.org.nz/event-2368485\n\nRange working bee\, further information to follow.\n
DTSTAMP:20260424T131043Z
END:VEVENT
END:VCALENDAR
